BEGIN:VCALENDAR
VERSION:2.0
PRODID:-//Sabre//Sabre VObject 4.5.8//EN
CALSCALE:GREGORIAN
BEGIN:VEVENT
UID:sabre-vobject-9a3ba34b-1420-4b8d-9313-04f777ab2f95
DTSTAMP:20260424T093630Z
SUMMARY:3rd Annual 25K Trail Run 
DESCRIPTION:
X-ALT-DESC:FMTTYPE=text/html:<!DOCTYPE HTML PUBLIC "-//W3C//DTD HTML 3.2//E
 N"><HTML></HTML>
CREATED;TZID=America/Chicago:20260113T102035
URL;VALUE=URI:https://redstone.armymwr.com/calendar/event
DTSTART;TZID=America/Chicago:20260314T063000
DTEND;TZID=America/Chicago:20260314T140000
SEQUENCE:0
END:VEVENT
END:VCALENDAR
