BEGIN:VCALENDAR
VERSION:2.0
PRODID:-//Sabre//Sabre VObject 4.5.8//EN
CALSCALE:GREGORIAN
BEGIN:VEVENT
UID:sabre-vobject-81c1d7f8-0ff2-4874-978f-a30378ecdea1
DTSTAMP:20260425T005440Z
SUMMARY:Wednesday Lunch Special! 
DESCRIPTION:Join us at the Weeden Mountain Grill for our Wednesday Lunch Sp
 ecial!&nbsp\;\n
X-ALT-DESC:FMTTYPE=text/html:<!DOCTYPE HTML PUBLIC "-//W3C//DTD HTML 3.2//E
 N"><HTML><p>Join us at the Weeden Mountain Grill for our Wednesday Lunch S
 pecial!&nbsp\;</p>\n</HTML>
CREATED;TZID=America/Chicago:20260225T111252
URL;VALUE=URI:https://redstone.armymwr.com/calendar/event
DTSTART;TZID=America/Chicago:20260311T103000
DTEND;TZID=America/Chicago:20260311T140000
SEQUENCE:0
END:VEVENT
END:VCALENDAR
