BEGIN:VCALENDAR
VERSION:2.0
PRODID:-//Sabre//Sabre VObject 4.5.8//EN
CALSCALE:GREGORIAN
BEGIN:VEVENT
UID:sabre-vobject-4ad4ec0a-f183-4607-b1ba-9f683a9ed3a7
DTSTAMP:20260422T031626Z
SUMMARY:Wednesday Lunch Special
DESCRIPTION:Join us at the Weeden Mountain Grill for the Wednesday Lunch Sp
 ecial!&nbsp\;\n
X-ALT-DESC:FMTTYPE=text/html:<!DOCTYPE HTML PUBLIC "-//W3C//DTD HTML 3.2//E
 N"><HTML><p>Join us at the Weeden Mountain Grill for the Wednesday Lunch S
 pecial!&nbsp\;</p>\n</HTML>
CREATED;TZID=America/Chicago:20260225T111644
URL;VALUE=URI:https://redstone.armymwr.com/calendar/event
DTSTART;TZID=America/Chicago:20260325T103000
DTEND;TZID=America/Chicago:20260325T140000
SEQUENCE:0
END:VEVENT
END:VCALENDAR
