BEGIN:VCALENDAR
VERSION:2.0
PRODID:-//Sabre//Sabre VObject 4.5.8//EN
CALSCALE:GREGORIAN
BEGIN:VEVENT
UID:sabre-vobject-e52b007d-ca05-4c59-b3bf-9bf7af2cf76d
DTSTAMP:20260421T140434Z
SUMMARY:March Madness Mystery 2 Person Tournament
DESCRIPTION:Join us at The Links for the Mystery format with breakfast and 
 lunch!&nbsp\;&nbsp\;\n
X-ALT-DESC:FMTTYPE=text/html:<!DOCTYPE HTML PUBLIC "-//W3C//DTD HTML 3.2//E
 N"><HTML><p>Join us at The Links for the Mystery format with breakfast and
  lunch!&nbsp\;&nbsp\;</p>\n</HTML>
CREATED;TZID=America/Chicago:20180302T145952
URL;VALUE=URI:https://redstone.armymwr.com/calendar/event
DTSTART;TZID=America/Chicago:20180317T080000
DTEND;TZID=America/Chicago:20180317T000000
SEQUENCE:0
END:VEVENT
END:VCALENDAR
