BEGIN:VCALENDAR
VERSION:2.0
PRODID:-//Sabre//Sabre VObject 4.5.8//EN
CALSCALE:GREGORIAN
BEGIN:VEVENT
UID:sabre-vobject-3b8cbbca-58e5-4fdf-9b08-76ba7bfe86ec
DTSTAMP:20260422T093520Z
SUMMARY:Fundamentals of Woodworking II Class
DESCRIPTION:Make a beautiful cutting board while continue learning woodshop
  techniques with this next class.\n
X-ALT-DESC:FMTTYPE=text/html:<!DOCTYPE HTML PUBLIC "-//W3C//DTD HTML 3.2//E
 N"><HTML><p>Make a beautiful cutting board while continue learning woodsho
 p techniques with this next class.</p>\n</HTML>
CREATED;TZID=America/Chicago:20180108T162237
URL;VALUE=URI:https://redstone.armymwr.com/calendar/event
DTSTART;TZID=America/Chicago:20180220T173000
DTEND;TZID=America/Chicago:20180221T213000
SEQUENCE:0
END:VEVENT
END:VCALENDAR
