BEGIN:VCALENDAR
VERSION:2.0
PRODID:-//Sabre//Sabre VObject 4.5.8//EN
CALSCALE:GREGORIAN
BEGIN:VEVENT
UID:sabre-vobject-f403f2c1-418a-408a-88f2-37dfa89731f9
DTSTAMP:20260422T013733Z
SUMMARY:Beginning Drawing Class
DESCRIPTION:Have you ever wanted to learn to draw? This is a good place to 
 start.\n
X-ALT-DESC:FMTTYPE=text/html:<!DOCTYPE HTML PUBLIC "-//W3C//DTD HTML 3.2//E
 N"><HTML><p class="MsoPlainText"><span style="font-size:16.0pt">Have you e
 ver wanted to learn to draw? This is a good place to start.<o:p></o:p></sp
 an></p>\n</HTML>
CREATED;TZID=America/Chicago:20180119T080120
URL;VALUE=URI:https://redstone.armymwr.com/calendar/event
DTSTART;TZID=America/Chicago:20180205T173000
DTEND;TZID=America/Chicago:20180205T190000
SEQUENCE:0
END:VEVENT
BEGIN:VEVENT
UID:sabre-vobject-f9356125-a612-4d7e-abfb-ead9267b10cf
DTSTAMP:20260422T013733Z
SUMMARY:Beginning Drawing Class
DESCRIPTION:Have you ever wanted to learn to draw? This is a good place to 
 start.\n
X-ALT-DESC:FMTTYPE=text/html:<!DOCTYPE HTML PUBLIC "-//W3C//DTD HTML 3.2//E
 N"><HTML><p class="MsoPlainText"><span style="font-size:16.0pt">Have you e
 ver wanted to learn to draw? This is a good place to start.<o:p></o:p></sp
 an></p>\n</HTML>
CREATED;TZID=America/Chicago:20180119T080120
URL;VALUE=URI:https://redstone.armymwr.com/calendar/event
DTSTART;TZID=America/Chicago:20180212T173000
DTEND;TZID=America/Chicago:20180212T190000
SEQUENCE:1
END:VEVENT
BEGIN:VEVENT
UID:sabre-vobject-2d8233b2-aa84-462f-ba8b-35908ae62114
DTSTAMP:20260422T013733Z
SUMMARY:Beginning Drawing Class
DESCRIPTION:Have you ever wanted to learn to draw? This is a good place to 
 start.\n
X-ALT-DESC:FMTTYPE=text/html:<!DOCTYPE HTML PUBLIC "-//W3C//DTD HTML 3.2//E
 N"><HTML><p class="MsoPlainText"><span style="font-size:16.0pt">Have you e
 ver wanted to learn to draw? This is a good place to start.<o:p></o:p></sp
 an></p>\n</HTML>
CREATED;TZID=America/Chicago:20180119T080120
URL;VALUE=URI:https://redstone.armymwr.com/calendar/event
DTSTART;TZID=America/Chicago:20180226T173000
DTEND;TZID=America/Chicago:20180226T190000
SEQUENCE:2
END:VEVENT
END:VCALENDAR
