BEGIN:VCALENDAR
VERSION:2.0
PRODID:-//Sabre//Sabre VObject 4.5.8//EN
CALSCALE:GREGORIAN
BEGIN:VEVENT
UID:sabre-vobject-6f6f0da5-7e12-4883-929a-54a936993b22
DTSTAMP:20260422T013731Z
SUMMARY:Sewing Class
DESCRIPTION:Make an adorable cat pillow\n
X-ALT-DESC:FMTTYPE=text/html:<!DOCTYPE HTML PUBLIC "-//W3C//DTD HTML 3.2//E
 N"><HTML><p>Make an adorable cat pillow</p>\n</HTML>
CREATED;TZID=America/Chicago:20180119T081531
URL;VALUE=URI:https://redstone.armymwr.com/calendar/event
DTSTART;TZID=America/Chicago:20180226T093000
DTEND;TZID=America/Chicago:20180226T120000
SEQUENCE:0
END:VEVENT
END:VCALENDAR
